

BEGIN:VCALENDAR
VERSION:2.0
PRODID:-// - ECPv6.2.9//NONSGML v1.0//EN
CALSCALE:GREGORIAN
METHOD:PUBLISH
X-ORIGINAL-URL:https://www.svvreewijkdevaan.nl
X-WR-CALDESC:Evenementen voor 
REFRESH-INTERVAL;VALUE=DURATION:PT1H
X-Robots-Tag:noindex
X-PUBLISHED-TTL:PT1H
BEGIN:VTIMEZONE
TZID:Europe/Paris
BEGIN:DAYLIGHT
TZOFFSETFROM:+0100
TZOFFSETTO:+0200
TZNAME:CEST
DTSTART:20250330T010000
END:DAYLIGHT
BEGIN:STANDARD
TZOFFSETFROM:+0200
TZOFFSETTO:+0100
TZNAME:CET
DTSTART:20251026T010000
END:STANDARD
END:VTIMEZONE
BEGIN:VEVENT
DTSTART;TZID=Europe/Paris:20251029T140000
DTEND;TZID=Europe/Paris:20251029T170000
DTSTAMP:20260423T030707
CREATED:20251007T090330Z
LAST-MODIFIED:20251007T090330Z
UID:2791-1761746400-1761757200@www.svvreewijkdevaan.nl
SUMMARY:pompoenen snijden
DESCRIPTION:Gezellig pompoenen snijden in leuke enge figuren voor Halloween. \n 
URL:https://www.svvreewijkdevaan.nl/agenda/pompoenen-snijden/
LOCATION:speeltuin Vreewijk  de Vaan\, pinksterweide 31\, Rotterdam\, 3075PL\, Nederland
END:VEVENT
BEGIN:VEVENT
DTSTART;TZID=Europe/Paris:20251031T190000
DTEND;TZID=Europe/Paris:20251031T223000
DTSTAMP:20260423T030707
CREATED:20251007T090914Z
LAST-MODIFIED:20251007T090914Z
UID:2793-1761937200-1761949800@www.svvreewijkdevaan.nl
SUMMARY:Halloween feest
DESCRIPTION:31 Oktober is er een Halloweenfeest op de speeltuin . \nhet is spannend en leuk. \ner is een spooktunnel en nog meer \nmet zwarte suikerspin en heksenlimonade
URL:https://www.svvreewijkdevaan.nl/agenda/halloween-feest-2/
LOCATION:speeltuin Vreewijk  de Vaan\, pinksterweide 31\, Rotterdam\, 3075PL\, Nederland
END:VEVENT
END:VCALENDAR