

BEGIN:VCALENDAR
VERSION:2.0
PRODID:-// - ECPv6.2.9//NONSGML v1.0//EN
CALSCALE:GREGORIAN
METHOD:PUBLISH
X-ORIGINAL-URL:https://www.svvreewijkdevaan.nl
X-WR-CALDESC:Evenementen voor 
REFRESH-INTERVAL;VALUE=DURATION:PT1H
X-Robots-Tag:noindex
X-PUBLISHED-TTL:PT1H
BEGIN:VTIMEZONE
TZID:Europe/Paris
BEGIN:DAYLIGHT
TZOFFSETFROM:+0100
TZOFFSETTO:+0200
TZNAME:CEST
DTSTART:20240331T010000
END:DAYLIGHT
BEGIN:STANDARD
TZOFFSETFROM:+0200
TZOFFSETTO:+0100
TZNAME:CET
DTSTART:20241027T010000
END:STANDARD
END:VTIMEZONE
BEGIN:VEVENT
DTSTART;TZID=Europe/Paris:20240306T133000
DTEND;TZID=Europe/Paris:20240306T160000
DTSTAMP:20260423T152553
CREATED:20240301T104322Z
LAST-MODIFIED:20240301T104322Z
UID:2405-1709731800-1709740800@www.svvreewijkdevaan.nl
SUMMARY:knutsel middag
DESCRIPTION:elke woensdag middag is het knutsel middag. \nleuk \,creatief en gezellig.
URL:https://www.svvreewijkdevaan.nl/agenda/knutsel-middag-3/
LOCATION:speeltuin Vreewijk  de Vaan\, pinksterweide 31\, Rotterdam\, 3075PL\, Nederland
END:VEVENT
BEGIN:VEVENT
DTSTART;TZID=Europe/Paris:20240308T160000
DTEND;TZID=Europe/Paris:20240308T180000
DTSTAMP:20260423T152553
CREATED:20240201T153442Z
LAST-MODIFIED:20240201T153442Z
UID:2207-1709913600-1709920800@www.svvreewijkdevaan.nl
SUMMARY:pannenkoekdag
DESCRIPTION:kom gezellig smullen van de pannenkoeken \nhet is pannenkoekdag \nGratis voor kinderen
URL:https://www.svvreewijkdevaan.nl/agenda/pannenkoekdag/
LOCATION:speeltuin Vreewijk  de Vaan\, pinksterweide 31\, Rotterdam\, 3075PL\, Nederland
END:VEVENT
BEGIN:VEVENT
DTSTART;TZID=Europe/Paris:20240313T133000
DTEND;TZID=Europe/Paris:20240313T160000
DTSTAMP:20260423T152553
CREATED:20240301T104447Z
LAST-MODIFIED:20240301T104447Z
UID:2407-1710336600-1710345600@www.svvreewijkdevaan.nl
SUMMARY:Knutsel middag
DESCRIPTION:elke woensdag middag is het knutsel middag. \nleuk \,creatief en gezellig.
URL:https://www.svvreewijkdevaan.nl/agenda/knutsel-middag-4/
LOCATION:speeltuin Vreewijk  de Vaan\, pinksterweide 31\, Rotterdam\, 3075PL\, Nederland
END:VEVENT
BEGIN:VEVENT
DTSTART;TZID=Europe/Paris:20240320T133000
DTEND;TZID=Europe/Paris:20240320T160000
DTSTAMP:20260423T152553
CREATED:20240301T104603Z
LAST-MODIFIED:20240301T104603Z
UID:2409-1710941400-1710950400@www.svvreewijkdevaan.nl
SUMMARY:knutsel middag
DESCRIPTION:elke woensdag middag is het knutsel middag. \nleuk \,creatief en gezellig.
URL:https://www.svvreewijkdevaan.nl/agenda/knutsel-middag-5/
LOCATION:speeltuin Vreewijk  de Vaan\, pinksterweide 31\, Rotterdam\, 3075PL\, Nederland
END:VEVENT
BEGIN:VEVENT
DTSTART;TZID=Europe/Paris:20240325T190000
DTEND;TZID=Europe/Paris:20240325T210000
DTSTAMP:20260423T152553
CREATED:20240227T103045Z
LAST-MODIFIED:20240227T103045Z
UID:2382-1711393200-1711400400@www.svvreewijkdevaan.nl
SUMMARY:Paas BINGO
DESCRIPTION:Gezellige en leuke Paas BINGO met Mooie paas prijzen . \n 
URL:https://www.svvreewijkdevaan.nl/agenda/paas-bingo/
LOCATION:speeltuin Vreewijk  de Vaan\, pinksterweide 31\, Rotterdam\, 3075PL\, Nederland
END:VEVENT
BEGIN:VEVENT
DTSTART;TZID=Europe/Paris:20240327T133000
DTEND;TZID=Europe/Paris:20240327T160000
DTSTAMP:20260423T152553
CREATED:20240301T104657Z
LAST-MODIFIED:20240301T104657Z
UID:2411-1711546200-1711555200@www.svvreewijkdevaan.nl
SUMMARY:knutsel middag
DESCRIPTION:elke woensdag middag is het knutsel middag. \nleuk \,creatief en gezellig.
URL:https://www.svvreewijkdevaan.nl/agenda/knutsel-middag-6/
LOCATION:speeltuin Vreewijk  de Vaan\, pinksterweide 31\, Rotterdam\, 3075PL\, Nederland
END:VEVENT
BEGIN:VEVENT
DTSTART;TZID=Europe/Paris:20240327T150000
DTEND;TZID=Europe/Paris:20240327T170000
DTSTAMP:20260423T152553
CREATED:20240202T103054Z
LAST-MODIFIED:20240202T112320Z
UID:2211-1711551600-1711558800@www.svvreewijkdevaan.nl
SUMMARY:paaseieren zoeken
DESCRIPTION:Kom je ook zoeken naar paaseieren van chocola en wie weet vind je ook nog het gouden ei en win je daar mee een leuk cadeau\, \nde toegang is gratis.
URL:https://www.svvreewijkdevaan.nl/agenda/paaseieren-zoeken/
LOCATION:speeltuin Vreewijk  de Vaan\, pinksterweide 31\, Rotterdam\, 3075PL\, Nederland
END:VEVENT
END:VCALENDAR