

BEGIN:VCALENDAR
VERSION:2.0
PRODID:-// - ECPv6.2.9//NONSGML v1.0//EN
CALSCALE:GREGORIAN
METHOD:PUBLISH
X-ORIGINAL-URL:https://www.svvreewijkdevaan.nl
X-WR-CALDESC:Evenementen voor 
REFRESH-INTERVAL;VALUE=DURATION:PT1H
X-Robots-Tag:noindex
X-PUBLISHED-TTL:PT1H
BEGIN:VTIMEZONE
TZID:Europe/Paris
BEGIN:DAYLIGHT
TZOFFSETFROM:+0100
TZOFFSETTO:+0200
TZNAME:CEST
DTSTART:20240331T010000
END:DAYLIGHT
BEGIN:STANDARD
TZOFFSETFROM:+0200
TZOFFSETTO:+0100
TZNAME:CET
DTSTART:20241027T010000
END:STANDARD
END:VTIMEZONE
BEGIN:VEVENT
DTSTART;TZID=Europe/Paris:20240522T133000
DTEND;TZID=Europe/Paris:20240522T153000
DTSTAMP:20260423T124152
CREATED:20240508T143043Z
LAST-MODIFIED:20240508T143123Z
UID:2524-1716384600-1716391800@www.svvreewijkdevaan.nl
SUMMARY:Knutselen
DESCRIPTION:Woensdagmiddag knutsel middag. \nLeuk en Gezellig. \nEn het is gratis.
URL:https://www.svvreewijkdevaan.nl/agenda/knutselen-6/
END:VEVENT
END:VCALENDAR