

BEGIN:VCALENDAR
VERSION:2.0
PRODID:-// - ECPv6.2.9//NONSGML v1.0//EN
CALSCALE:GREGORIAN
METHOD:PUBLISH
X-ORIGINAL-URL:https://www.svvreewijkdevaan.nl
X-WR-CALDESC:Evenementen voor 
REFRESH-INTERVAL;VALUE=DURATION:PT1H
X-Robots-Tag:noindex
X-PUBLISHED-TTL:PT1H
BEGIN:VTIMEZONE
TZID:Europe/Paris
BEGIN:DAYLIGHT
TZOFFSETFROM:+0100
TZOFFSETTO:+0200
TZNAME:CEST
DTSTART:20240331T010000
END:DAYLIGHT
BEGIN:STANDARD
TZOFFSETFROM:+0200
TZOFFSETTO:+0100
TZNAME:CET
DTSTART:20241027T010000
END:STANDARD
END:VTIMEZONE
BEGIN:VEVENT
DTSTART;TZID=Europe/Paris:20240505T080000
DTEND;TZID=Europe/Paris:20240505T170000
DTSTAMP:20260423T124122
CREATED:20240202T112913Z
LAST-MODIFIED:20240202T112913Z
UID:2213-1714896000-1714928400@www.svvreewijkdevaan.nl
SUMMARY:Bevrijdings feest
DESCRIPTION:Op 5 mei is het Bevrijdingsfeest op de speeltuin. \nDiv springkussens zijn aanwezig \, \nPopcorn \,Suikerspin \nSpelletjes
URL:https://www.svvreewijkdevaan.nl/agenda/bevrijdings-feest/
END:VEVENT
END:VCALENDAR