

BEGIN:VCALENDAR
VERSION:2.0
PRODID:-// - ECPv6.2.9//NONSGML v1.0//EN
CALSCALE:GREGORIAN
METHOD:PUBLISH
X-ORIGINAL-URL:https://www.svvreewijkdevaan.nl
X-WR-CALDESC:Evenementen voor 
REFRESH-INTERVAL;VALUE=DURATION:PT1H
X-Robots-Tag:noindex
X-PUBLISHED-TTL:PT1H
BEGIN:VTIMEZONE
TZID:Europe/Paris
BEGIN:DAYLIGHT
TZOFFSETFROM:+0100
TZOFFSETTO:+0200
TZNAME:CEST
DTSTART:20240331T010000
END:DAYLIGHT
BEGIN:STANDARD
TZOFFSETFROM:+0200
TZOFFSETTO:+0100
TZNAME:CET
DTSTART:20241027T010000
END:STANDARD
END:VTIMEZONE
BEGIN:VEVENT
DTSTART;TZID=Europe/Paris:20240403T133000
DTEND;TZID=Europe/Paris:20240403T153000
DTSTAMP:20260423T140200
CREATED:20240403T090138Z
LAST-MODIFIED:20240403T090138Z
UID:2452-1712151000-1712158200@www.svvreewijkdevaan.nl
SUMMARY:Knutselmiddag
DESCRIPTION:elke woensdag middag is er Knutselmiddag op de speeltuin Vreewijk de Vaan
URL:https://www.svvreewijkdevaan.nl/agenda/knutselmiddag/
LOCATION:speeltuin Vreewijk  de Vaan\, pinksterweide 31\, Rotterdam\, 3075PL\, Nederland
END:VEVENT
END:VCALENDAR